BEGIN:VCALENDAR
VERSION:2.0
PRODID:-//Wanlo - ECPv6.15.19//NONSGML v1.0//EN
CALSCALE:GREGORIAN
METHOD:PUBLISH
X-ORIGINAL-URL:https://wanlo-mg.de
X-WR-CALDESC:Veranstaltungen für Wanlo
REFRESH-INTERVAL;VALUE=DURATION:PT1H
X-Robots-Tag:noindex
X-PUBLISHED-TTL:PT1H
BEGIN:VTIMEZONE
TZID:Europe/Berlin
BEGIN:DAYLIGHT
TZOFFSETFROM:+0100
TZOFFSETTO:+0200
TZNAME:CEST
DTSTART:20220327T010000
END:DAYLIGHT
BEGIN:STANDARD
TZOFFSETFROM:+0200
TZOFFSETTO:+0100
TZNAME:CET
DTSTART:20221030T010000
END:STANDARD
BEGIN:DAYLIGHT
TZOFFSETFROM:+0100
TZOFFSETTO:+0200
TZNAME:CEST
DTSTART:20230326T010000
END:DAYLIGHT
BEGIN:STANDARD
TZOFFSETFROM:+0200
TZOFFSETTO:+0100
TZNAME:CET
DTSTART:20231029T010000
END:STANDARD
BEGIN:DAYLIGHT
TZOFFSETFROM:+0100
TZOFFSETTO:+0200
TZNAME:CEST
DTSTART:20240331T010000
END:DAYLIGHT
BEGIN:STANDARD
TZOFFSETFROM:+0200
TZOFFSETTO:+0100
TZNAME:CET
DTSTART:20241027T010000
END:STANDARD
BEGIN:DAYLIGHT
TZOFFSETFROM:+0100
TZOFFSETTO:+0200
TZNAME:CEST
DTSTART:20250330T010000
END:DAYLIGHT
BEGIN:STANDARD
TZOFFSETFROM:+0200
TZOFFSETTO:+0100
TZNAME:CET
DTSTART:20251026T010000
END:STANDARD
BEGIN:DAYLIGHT
TZOFFSETFROM:+0100
TZOFFSETTO:+0200
TZNAME:CEST
DTSTART:20260329T010000
END:DAYLIGHT
BEGIN:STANDARD
TZOFFSETFROM:+0200
TZOFFSETTO:+0100
TZNAME:CET
DTSTART:20261025T010000
END:STANDARD
BEGIN:DAYLIGHT
TZOFFSETFROM:+0100
TZOFFSETTO:+0200
TZNAME:CEST
DTSTART:20270328T010000
END:DAYLIGHT
BEGIN:STANDARD
TZOFFSETFROM:+0200
TZOFFSETTO:+0100
TZNAME:CET
DTSTART:20271031T010000
END:STANDARD
END:VTIMEZONE
BEGIN:VEVENT
DTSTART;TZID=Europe/Berlin:20260413T200000
DTEND;TZID=Europe/Berlin:20260413T220000
DTSTAMP:20260422T123112
CREATED:20230317T151951Z
LAST-MODIFIED:20260408T172611Z
UID:10003598-1776110400-1776117600@wanlo-mg.de
SUMMARY:Vorstandssitzung Dorfinteressengemeinschaft Wanlo
DESCRIPTION:Ansprechpartner: Rainer Krix\, Reinhold Giesen
URL:https://wanlo-mg.de/veranstaltung/vorstandssitzung-dorfinteressengemeinschaft-wanlo-6/2026-04-13/
LOCATION:Wohnzimmer
CATEGORIES:DCW-Belegungsplan
END:VEVENT
BEGIN:VEVENT
DTSTART;TZID=Europe/Berlin:20260309T200000
DTEND;TZID=Europe/Berlin:20260309T220000
DTSTAMP:20260422T123112
CREATED:20230317T151951Z
LAST-MODIFIED:20260408T172611Z
UID:10003597-1773086400-1773093600@wanlo-mg.de
SUMMARY:Vorstandssitzung Dorfinteressengemeinschaft Wanlo
DESCRIPTION:Ansprechpartner: Rainer Krix\, Reinhold Giesen
URL:https://wanlo-mg.de/veranstaltung/vorstandssitzung-dorfinteressengemeinschaft-wanlo-6/2026-03-09/
LOCATION:Wohnzimmer
CATEGORIES:DCW-Belegungsplan
END:VEVENT
BEGIN:VEVENT
DTSTART;TZID=Europe/Berlin:20260209T200000
DTEND;TZID=Europe/Berlin:20260209T220000
DTSTAMP:20260422T123112
CREATED:20230317T151951Z
LAST-MODIFIED:20260408T172611Z
UID:10003596-1770667200-1770674400@wanlo-mg.de
SUMMARY:Vorstandssitzung Dorfinteressengemeinschaft Wanlo
DESCRIPTION:Ansprechpartner: Rainer Krix\, Reinhold Giesen
URL:https://wanlo-mg.de/veranstaltung/vorstandssitzung-dorfinteressengemeinschaft-wanlo-6/2026-02-09/
LOCATION:Wohnzimmer
CATEGORIES:DCW-Belegungsplan
END:VEVENT
BEGIN:VEVENT
DTSTART;TZID=Europe/Berlin:20260112T200000
DTEND;TZID=Europe/Berlin:20260112T220000
DTSTAMP:20260422T123112
CREATED:20230317T151951Z
LAST-MODIFIED:20260408T172611Z
UID:10003595-1768248000-1768255200@wanlo-mg.de
SUMMARY:Vorstandssitzung Dorfinteressengemeinschaft Wanlo
DESCRIPTION:Ansprechpartner: Rainer Krix\, Reinhold Giesen
URL:https://wanlo-mg.de/veranstaltung/vorstandssitzung-dorfinteressengemeinschaft-wanlo-6/2026-01-12/
LOCATION:Wohnzimmer
CATEGORIES:DCW-Belegungsplan
END:VEVENT
BEGIN:VEVENT
DTSTART;TZID=Europe/Berlin:20251208T200000
DTEND;TZID=Europe/Berlin:20251208T220000
DTSTAMP:20260422T123112
CREATED:20230317T151951Z
LAST-MODIFIED:20260408T172611Z
UID:10003594-1765224000-1765231200@wanlo-mg.de
SUMMARY:Vorstandssitzung Dorfinteressengemeinschaft Wanlo
DESCRIPTION:Ansprechpartner: Rainer Krix\, Reinhold Giesen
URL:https://wanlo-mg.de/veranstaltung/vorstandssitzung-dorfinteressengemeinschaft-wanlo-6/2025-12-08/
LOCATION:Wohnzimmer
CATEGORIES:DCW-Belegungsplan
END:VEVENT
BEGIN:VEVENT
DTSTART;TZID=Europe/Berlin:20251110T200000
DTEND;TZID=Europe/Berlin:20251110T220000
DTSTAMP:20260422T123112
CREATED:20230317T151951Z
LAST-MODIFIED:20260408T172611Z
UID:10003593-1762804800-1762812000@wanlo-mg.de
SUMMARY:Vorstandssitzung Dorfinteressengemeinschaft Wanlo
DESCRIPTION:Ansprechpartner: Rainer Krix\, Reinhold Giesen
URL:https://wanlo-mg.de/veranstaltung/vorstandssitzung-dorfinteressengemeinschaft-wanlo-6/2025-11-10/
LOCATION:Wohnzimmer
CATEGORIES:DCW-Belegungsplan
END:VEVENT
BEGIN:VEVENT
DTSTART;TZID=Europe/Berlin:20251013T200000
DTEND;TZID=Europe/Berlin:20251013T220000
DTSTAMP:20260422T123112
CREATED:20230317T151951Z
LAST-MODIFIED:20260408T172611Z
UID:10003592-1760385600-1760392800@wanlo-mg.de
SUMMARY:Vorstandssitzung Dorfinteressengemeinschaft Wanlo
DESCRIPTION:Ansprechpartner: Rainer Krix\, Reinhold Giesen
URL:https://wanlo-mg.de/veranstaltung/vorstandssitzung-dorfinteressengemeinschaft-wanlo-6/2025-10-13/
LOCATION:Wohnzimmer
CATEGORIES:DCW-Belegungsplan
END:VEVENT
BEGIN:VEVENT
DTSTART;TZID=Europe/Berlin:20250908T200000
DTEND;TZID=Europe/Berlin:20250908T220000
DTSTAMP:20260422T123112
CREATED:20230317T151951Z
LAST-MODIFIED:20260408T172611Z
UID:10003591-1757361600-1757368800@wanlo-mg.de
SUMMARY:Vorstandssitzung Dorfinteressengemeinschaft Wanlo
DESCRIPTION:Ansprechpartner: Rainer Krix\, Reinhold Giesen
URL:https://wanlo-mg.de/veranstaltung/vorstandssitzung-dorfinteressengemeinschaft-wanlo-6/2025-09-08/
LOCATION:Wohnzimmer
CATEGORIES:DCW-Belegungsplan
END:VEVENT
BEGIN:VEVENT
DTSTART;TZID=Europe/Berlin:20250811T200000
DTEND;TZID=Europe/Berlin:20250811T220000
DTSTAMP:20260422T123113
CREATED:20230317T151951Z
LAST-MODIFIED:20260408T172611Z
UID:10003590-1754942400-1754949600@wanlo-mg.de
SUMMARY:Vorstandssitzung Dorfinteressengemeinschaft Wanlo
DESCRIPTION:Ansprechpartner: Rainer Krix\, Reinhold Giesen
URL:https://wanlo-mg.de/veranstaltung/vorstandssitzung-dorfinteressengemeinschaft-wanlo-6/2025-08-11/
LOCATION:Wohnzimmer
CATEGORIES:DCW-Belegungsplan
END:VEVENT
BEGIN:VEVENT
DTSTART;TZID=Europe/Berlin:20250714T200000
DTEND;TZID=Europe/Berlin:20250714T220000
DTSTAMP:20260422T123113
CREATED:20230317T151951Z
LAST-MODIFIED:20260408T172611Z
UID:10003589-1752523200-1752530400@wanlo-mg.de
SUMMARY:Vorstandssitzung Dorfinteressengemeinschaft Wanlo
DESCRIPTION:Ansprechpartner: Rainer Krix\, Reinhold Giesen
URL:https://wanlo-mg.de/veranstaltung/vorstandssitzung-dorfinteressengemeinschaft-wanlo-6/2025-07-14/
LOCATION:Wohnzimmer
CATEGORIES:DCW-Belegungsplan
END:VEVENT
BEGIN:VEVENT
DTSTART;TZID=Europe/Berlin:20250512T200000
DTEND;TZID=Europe/Berlin:20250512T220000
DTSTAMP:20260422T123113
CREATED:20230317T151951Z
LAST-MODIFIED:20260408T172611Z
UID:10003587-1747080000-1747087200@wanlo-mg.de
SUMMARY:Vorstandssitzung Dorfinteressengemeinschaft Wanlo
DESCRIPTION:Ansprechpartner: Rainer Krix\, Reinhold Giesen
URL:https://wanlo-mg.de/veranstaltung/vorstandssitzung-dorfinteressengemeinschaft-wanlo-6/2025-05-12/
LOCATION:Wohnzimmer
CATEGORIES:DCW-Belegungsplan
END:VEVENT
BEGIN:VEVENT
DTSTART;TZID=Europe/Berlin:20250414T200000
DTEND;TZID=Europe/Berlin:20250414T220000
DTSTAMP:20260422T123113
CREATED:20230317T151951Z
LAST-MODIFIED:20260408T172611Z
UID:10003586-1744660800-1744668000@wanlo-mg.de
SUMMARY:Vorstandssitzung Dorfinteressengemeinschaft Wanlo
DESCRIPTION:Ansprechpartner: Rainer Krix\, Reinhold Giesen
URL:https://wanlo-mg.de/veranstaltung/vorstandssitzung-dorfinteressengemeinschaft-wanlo-6/2025-04-14/
LOCATION:Wohnzimmer
CATEGORIES:DCW-Belegungsplan
END:VEVENT
BEGIN:VEVENT
DTSTART;TZID=Europe/Berlin:20250310T200000
DTEND;TZID=Europe/Berlin:20250310T220000
DTSTAMP:20260422T123113
CREATED:20230317T151951Z
LAST-MODIFIED:20260408T172611Z
UID:10003585-1741636800-1741644000@wanlo-mg.de
SUMMARY:Vorstandssitzung Dorfinteressengemeinschaft Wanlo
DESCRIPTION:Ansprechpartner: Rainer Krix\, Reinhold Giesen
URL:https://wanlo-mg.de/veranstaltung/vorstandssitzung-dorfinteressengemeinschaft-wanlo-6/2025-03-10/
LOCATION:Wohnzimmer
CATEGORIES:DCW-Belegungsplan
END:VEVENT
BEGIN:VEVENT
DTSTART;TZID=Europe/Berlin:20250210T200000
DTEND;TZID=Europe/Berlin:20250210T220000
DTSTAMP:20260422T123113
CREATED:20230317T151951Z
LAST-MODIFIED:20260408T172611Z
UID:10003584-1739217600-1739224800@wanlo-mg.de
SUMMARY:Vorstandssitzung Dorfinteressengemeinschaft Wanlo
DESCRIPTION:Ansprechpartner: Rainer Krix\, Reinhold Giesen
URL:https://wanlo-mg.de/veranstaltung/vorstandssitzung-dorfinteressengemeinschaft-wanlo-6/2025-02-10/
LOCATION:Wohnzimmer
CATEGORIES:DCW-Belegungsplan
END:VEVENT
BEGIN:VEVENT
DTSTART;TZID=Europe/Berlin:20250113T200000
DTEND;TZID=Europe/Berlin:20250113T220000
DTSTAMP:20260422T123113
CREATED:20230317T151951Z
LAST-MODIFIED:20260408T172611Z
UID:10003583-1736798400-1736805600@wanlo-mg.de
SUMMARY:Vorstandssitzung Dorfinteressengemeinschaft Wanlo
DESCRIPTION:Ansprechpartner: Rainer Krix\, Reinhold Giesen
URL:https://wanlo-mg.de/veranstaltung/vorstandssitzung-dorfinteressengemeinschaft-wanlo-6/2025-01-13/
LOCATION:Wohnzimmer
CATEGORIES:DCW-Belegungsplan
END:VEVENT
BEGIN:VEVENT
DTSTART;TZID=Europe/Berlin:20241209T200000
DTEND;TZID=Europe/Berlin:20241209T220000
DTSTAMP:20260422T123113
CREATED:20230317T151951Z
LAST-MODIFIED:20260408T172611Z
UID:10003582-1733774400-1733781600@wanlo-mg.de
SUMMARY:Vorstandssitzung Dorfinteressengemeinschaft Wanlo
DESCRIPTION:Ansprechpartner: Rainer Krix\, Reinhold Giesen
URL:https://wanlo-mg.de/veranstaltung/vorstandssitzung-dorfinteressengemeinschaft-wanlo-6/2024-12-09/
LOCATION:Wohnzimmer
CATEGORIES:DCW-Belegungsplan
END:VEVENT
BEGIN:VEVENT
DTSTART;TZID=Europe/Berlin:20241111T200000
DTEND;TZID=Europe/Berlin:20241111T220000
DTSTAMP:20260422T123113
CREATED:20230317T151951Z
LAST-MODIFIED:20260408T172611Z
UID:10003581-1731355200-1731362400@wanlo-mg.de
SUMMARY:Vorstandssitzung Dorfinteressengemeinschaft Wanlo
DESCRIPTION:Ansprechpartner: Rainer Krix\, Reinhold Giesen
URL:https://wanlo-mg.de/veranstaltung/vorstandssitzung-dorfinteressengemeinschaft-wanlo-6/2024-11-11/
LOCATION:Wohnzimmer
CATEGORIES:DCW-Belegungsplan
END:VEVENT
BEGIN:VEVENT
DTSTART;TZID=Europe/Berlin:20241014T200000
DTEND;TZID=Europe/Berlin:20241014T220000
DTSTAMP:20260422T123113
CREATED:20230317T151951Z
LAST-MODIFIED:20260408T172611Z
UID:10003580-1728936000-1728943200@wanlo-mg.de
SUMMARY:Vorstandssitzung Dorfinteressengemeinschaft Wanlo
DESCRIPTION:Ansprechpartner: Rainer Krix\, Reinhold Giesen
URL:https://wanlo-mg.de/veranstaltung/vorstandssitzung-dorfinteressengemeinschaft-wanlo-6/2024-10-14/
LOCATION:Wohnzimmer
CATEGORIES:DCW-Belegungsplan
END:VEVENT
BEGIN:VEVENT
DTSTART;TZID=Europe/Berlin:20240909T200000
DTEND;TZID=Europe/Berlin:20240909T220000
DTSTAMP:20260422T123113
CREATED:20230317T151951Z
LAST-MODIFIED:20260408T172611Z
UID:10003579-1725912000-1725919200@wanlo-mg.de
SUMMARY:Vorstandssitzung Dorfinteressengemeinschaft Wanlo
DESCRIPTION:Ansprechpartner: Rainer Krix\, Reinhold Giesen
URL:https://wanlo-mg.de/veranstaltung/vorstandssitzung-dorfinteressengemeinschaft-wanlo-6/2024-09-09/
LOCATION:Wohnzimmer
CATEGORIES:DCW-Belegungsplan
END:VEVENT
BEGIN:VEVENT
DTSTART;TZID=Europe/Berlin:20240812T200000
DTEND;TZID=Europe/Berlin:20240812T220000
DTSTAMP:20260422T123113
CREATED:20230317T151951Z
LAST-MODIFIED:20260408T172611Z
UID:10003578-1723492800-1723500000@wanlo-mg.de
SUMMARY:Vorstandssitzung Dorfinteressengemeinschaft Wanlo
DESCRIPTION:Ansprechpartner: Rainer Krix\, Reinhold Giesen
URL:https://wanlo-mg.de/veranstaltung/vorstandssitzung-dorfinteressengemeinschaft-wanlo-6/2024-08-12/
LOCATION:Wohnzimmer
CATEGORIES:DCW-Belegungsplan
END:VEVENT
BEGIN:VEVENT
DTSTART;TZID=Europe/Berlin:20240708T200000
DTEND;TZID=Europe/Berlin:20240708T220000
DTSTAMP:20260422T123113
CREATED:20230317T151951Z
LAST-MODIFIED:20260408T172611Z
UID:10003577-1720468800-1720476000@wanlo-mg.de
SUMMARY:Vorstandssitzung Dorfinteressengemeinschaft Wanlo
DESCRIPTION:Ansprechpartner: Rainer Krix\, Reinhold Giesen
URL:https://wanlo-mg.de/veranstaltung/vorstandssitzung-dorfinteressengemeinschaft-wanlo-6/2024-07-08/
LOCATION:Wohnzimmer
CATEGORIES:DCW-Belegungsplan
END:VEVENT
BEGIN:VEVENT
DTSTART;TZID=Europe/Berlin:20240610T200000
DTEND;TZID=Europe/Berlin:20240610T220000
DTSTAMP:20260422T123113
CREATED:20230317T151951Z
LAST-MODIFIED:20260408T172611Z
UID:10003576-1718049600-1718056800@wanlo-mg.de
SUMMARY:Vorstandssitzung Dorfinteressengemeinschaft Wanlo
DESCRIPTION:Ansprechpartner: Rainer Krix\, Reinhold Giesen
URL:https://wanlo-mg.de/veranstaltung/vorstandssitzung-dorfinteressengemeinschaft-wanlo-6/2024-06-10/
LOCATION:Wohnzimmer
CATEGORIES:DCW-Belegungsplan
END:VEVENT
BEGIN:VEVENT
DTSTART;TZID=Europe/Berlin:20240513T200000
DTEND;TZID=Europe/Berlin:20240513T220000
DTSTAMP:20260422T123113
CREATED:20230317T151951Z
LAST-MODIFIED:20260408T172611Z
UID:10003575-1715630400-1715637600@wanlo-mg.de
SUMMARY:Vorstandssitzung Dorfinteressengemeinschaft Wanlo
DESCRIPTION:Ansprechpartner: Rainer Krix\, Reinhold Giesen
URL:https://wanlo-mg.de/veranstaltung/vorstandssitzung-dorfinteressengemeinschaft-wanlo-6/2024-05-13/
LOCATION:Wohnzimmer
CATEGORIES:DCW-Belegungsplan
END:VEVENT
BEGIN:VEVENT
DTSTART;TZID=Europe/Berlin:20240408T200000
DTEND;TZID=Europe/Berlin:20240408T220000
DTSTAMP:20260422T123113
CREATED:20230317T151951Z
LAST-MODIFIED:20260408T172611Z
UID:10003574-1712606400-1712613600@wanlo-mg.de
SUMMARY:Vorstandssitzung Dorfinteressengemeinschaft Wanlo
DESCRIPTION:Ansprechpartner: Rainer Krix\, Reinhold Giesen
URL:https://wanlo-mg.de/veranstaltung/vorstandssitzung-dorfinteressengemeinschaft-wanlo-6/2024-04-08/
LOCATION:Wohnzimmer
CATEGORIES:DCW-Belegungsplan
END:VEVENT
BEGIN:VEVENT
DTSTART;TZID=Europe/Berlin:20240311T200000
DTEND;TZID=Europe/Berlin:20240311T220000
DTSTAMP:20260422T123113
CREATED:20230317T151951Z
LAST-MODIFIED:20260408T172611Z
UID:10003573-1710187200-1710194400@wanlo-mg.de
SUMMARY:Vorstandssitzung Dorfinteressengemeinschaft Wanlo
DESCRIPTION:Ansprechpartner: Rainer Krix\, Reinhold Giesen
URL:https://wanlo-mg.de/veranstaltung/vorstandssitzung-dorfinteressengemeinschaft-wanlo-6/2024-03-11/
LOCATION:Wohnzimmer
CATEGORIES:DCW-Belegungsplan
END:VEVENT
BEGIN:VEVENT
DTSTART;TZID=Europe/Berlin:20240212T200000
DTEND;TZID=Europe/Berlin:20240212T220000
DTSTAMP:20260422T123113
CREATED:20230317T151951Z
LAST-MODIFIED:20260408T172611Z
UID:10003572-1707768000-1707775200@wanlo-mg.de
SUMMARY:Vorstandssitzung Dorfinteressengemeinschaft Wanlo
DESCRIPTION:Ansprechpartner: Rainer Krix\, Reinhold Giesen
URL:https://wanlo-mg.de/veranstaltung/vorstandssitzung-dorfinteressengemeinschaft-wanlo-6/2024-02-12/
LOCATION:Wohnzimmer
CATEGORIES:DCW-Belegungsplan
END:VEVENT
BEGIN:VEVENT
DTSTART;TZID=Europe/Berlin:20240108T200000
DTEND;TZID=Europe/Berlin:20240108T220000
DTSTAMP:20260422T123113
CREATED:20230317T151951Z
LAST-MODIFIED:20260408T172611Z
UID:10003571-1704744000-1704751200@wanlo-mg.de
SUMMARY:Vorstandssitzung Dorfinteressengemeinschaft Wanlo
DESCRIPTION:Ansprechpartner: Rainer Krix\, Reinhold Giesen
URL:https://wanlo-mg.de/veranstaltung/vorstandssitzung-dorfinteressengemeinschaft-wanlo-6/2024-01-08/
LOCATION:Wohnzimmer
CATEGORIES:DCW-Belegungsplan
END:VEVENT
BEGIN:VEVENT
DTSTART;TZID=Europe/Berlin:20231211T200000
DTEND;TZID=Europe/Berlin:20231211T220000
DTSTAMP:20260422T123113
CREATED:20230317T151951Z
LAST-MODIFIED:20260408T172611Z
UID:10003570-1702324800-1702332000@wanlo-mg.de
SUMMARY:Vorstandssitzung Dorfinteressengemeinschaft Wanlo
DESCRIPTION:Ansprechpartner: Rainer Krix\, Reinhold Giesen
URL:https://wanlo-mg.de/veranstaltung/vorstandssitzung-dorfinteressengemeinschaft-wanlo-6/2023-12-11/
LOCATION:Wohnzimmer
CATEGORIES:DCW-Belegungsplan
END:VEVENT
BEGIN:VEVENT
DTSTART;TZID=Europe/Berlin:20231113T200000
DTEND;TZID=Europe/Berlin:20231113T220000
DTSTAMP:20260422T123113
CREATED:20230317T151951Z
LAST-MODIFIED:20260408T172611Z
UID:10003569-1699905600-1699912800@wanlo-mg.de
SUMMARY:Vorstandssitzung Dorfinteressengemeinschaft Wanlo
DESCRIPTION:Ansprechpartner: Rainer Krix\, Reinhold Giesen
URL:https://wanlo-mg.de/veranstaltung/vorstandssitzung-dorfinteressengemeinschaft-wanlo-6/2023-11-13/
LOCATION:Wohnzimmer
CATEGORIES:DCW-Belegungsplan
END:VEVENT
BEGIN:VEVENT
DTSTART;TZID=Europe/Berlin:20231009T200000
DTEND;TZID=Europe/Berlin:20231009T220000
DTSTAMP:20260422T123113
CREATED:20230317T151951Z
LAST-MODIFIED:20260408T172611Z
UID:10003568-1696881600-1696888800@wanlo-mg.de
SUMMARY:Vorstandssitzung Dorfinteressengemeinschaft Wanlo
DESCRIPTION:Ansprechpartner: Rainer Krix\, Reinhold Giesen
URL:https://wanlo-mg.de/veranstaltung/vorstandssitzung-dorfinteressengemeinschaft-wanlo-6/2023-10-09/
LOCATION:Wohnzimmer
CATEGORIES:DCW-Belegungsplan
END:VEVENT
END:VCALENDAR