BEGIN:VCALENDAR
VERSION:2.0
PRODID:-//Wanlo - ECPv6.15.19//NONSGML v1.0//EN
CALSCALE:GREGORIAN
METHOD:PUBLISH
X-WR-CALNAME:Wanlo
X-ORIGINAL-URL:https://wanlo-mg.de
X-WR-CALDESC:Veranstaltungen für Wanlo
REFRESH-INTERVAL;VALUE=DURATION:PT1H
X-Robots-Tag:noindex
X-PUBLISHED-TTL:PT1H
BEGIN:VTIMEZONE
TZID:Europe/Berlin
BEGIN:DAYLIGHT
TZOFFSETFROM:+0100
TZOFFSETTO:+0200
TZNAME:CEST
DTSTART:20240331T010000
END:DAYLIGHT
BEGIN:STANDARD
TZOFFSETFROM:+0200
TZOFFSETTO:+0100
TZNAME:CET
DTSTART:20241027T010000
END:STANDARD
BEGIN:DAYLIGHT
TZOFFSETFROM:+0100
TZOFFSETTO:+0200
TZNAME:CEST
DTSTART:20250330T010000
END:DAYLIGHT
BEGIN:STANDARD
TZOFFSETFROM:+0200
TZOFFSETTO:+0100
TZNAME:CET
DTSTART:20251026T010000
END:STANDARD
BEGIN:DAYLIGHT
TZOFFSETFROM:+0100
TZOFFSETTO:+0200
TZNAME:CEST
DTSTART:20260329T010000
END:DAYLIGHT
BEGIN:STANDARD
TZOFFSETFROM:+0200
TZOFFSETTO:+0100
TZNAME:CET
DTSTART:20261025T010000
END:STANDARD
END:VTIMEZONE
BEGIN:VEVENT
DTSTART;TZID=Europe/Berlin:20251205T180000
DTEND;TZID=Europe/Berlin:20251205T220000
DTSTAMP:20260422T155931
CREATED:20241215T163215Z
LAST-MODIFIED:20251104T134231Z
UID:10002779-1764957600-1764972000@wanlo-mg.de
SUMMARY:Glühweinzauber
DESCRIPTION:Ansprechpartner. Andreas Cichy\, Kerstin Rösgen
URL:https://wanlo-mg.de/veranstaltung/gluehweinzauber-2/
LOCATION:Schule & Schulhof
CATEGORIES:DCW-Belegungsplan
ATTACH;FMTTYPE=image/jpeg:https://wanlo-mg.de/wp-content/uploads/2024/12/2025-Weihnachtsmarkt2-scaled.jpg
END:VEVENT
END:VCALENDAR