BEGIN:VCALENDAR
VERSION:2.0
PRODID:-//Wanlo - ECPv6.15.19//NONSGML v1.0//EN
CALSCALE:GREGORIAN
METHOD:PUBLISH
X-ORIGINAL-URL:https://wanlo-mg.de
X-WR-CALDESC:Veranstaltungen für Wanlo
REFRESH-INTERVAL;VALUE=DURATION:PT1H
X-Robots-Tag:noindex
X-PUBLISHED-TTL:PT1H
BEGIN:VTIMEZONE
TZID:Europe/Berlin
BEGIN:DAYLIGHT
TZOFFSETFROM:+0100
TZOFFSETTO:+0200
TZNAME:CEST
DTSTART:20210328T010000
END:DAYLIGHT
BEGIN:STANDARD
TZOFFSETFROM:+0200
TZOFFSETTO:+0100
TZNAME:CET
DTSTART:20211031T010000
END:STANDARD
BEGIN:DAYLIGHT
TZOFFSETFROM:+0100
TZOFFSETTO:+0200
TZNAME:CEST
DTSTART:20220327T010000
END:DAYLIGHT
BEGIN:STANDARD
TZOFFSETFROM:+0200
TZOFFSETTO:+0100
TZNAME:CET
DTSTART:20221030T010000
END:STANDARD
BEGIN:DAYLIGHT
TZOFFSETFROM:+0100
TZOFFSETTO:+0200
TZNAME:CEST
DTSTART:20230326T010000
END:DAYLIGHT
BEGIN:STANDARD
TZOFFSETFROM:+0200
TZOFFSETTO:+0100
TZNAME:CET
DTSTART:20231029T010000
END:STANDARD
BEGIN:DAYLIGHT
TZOFFSETFROM:+0100
TZOFFSETTO:+0200
TZNAME:CEST
DTSTART:20240331T010000
END:DAYLIGHT
BEGIN:STANDARD
TZOFFSETFROM:+0200
TZOFFSETTO:+0100
TZNAME:CET
DTSTART:20241027T010000
END:STANDARD
END:VTIMEZONE
BEGIN:VTIMEZONE
TZID:Europe/Paris
BEGIN:DAYLIGHT
TZOFFSETFROM:+0100
TZOFFSETTO:+0200
TZNAME:CEST
DTSTART:20210328T010000
END:DAYLIGHT
BEGIN:STANDARD
TZOFFSETFROM:+0200
TZOFFSETTO:+0100
TZNAME:CET
DTSTART:20211031T010000
END:STANDARD
BEGIN:DAYLIGHT
TZOFFSETFROM:+0100
TZOFFSETTO:+0200
TZNAME:CEST
DTSTART:20220327T010000
END:DAYLIGHT
BEGIN:STANDARD
TZOFFSETFROM:+0200
TZOFFSETTO:+0100
TZNAME:CET
DTSTART:20221030T010000
END:STANDARD
BEGIN:DAYLIGHT
TZOFFSETFROM:+0100
TZOFFSETTO:+0200
TZNAME:CEST
DTSTART:20230326T010000
END:DAYLIGHT
BEGIN:STANDARD
TZOFFSETFROM:+0200
TZOFFSETTO:+0100
TZNAME:CET
DTSTART:20231029T010000
END:STANDARD
END:VTIMEZONE
BEGIN:VEVENT
DTSTART;TZID=Europe/Berlin:20230816T143000
DTEND;TZID=Europe/Berlin:20230816T170000
DTSTAMP:20260420T044451
CREATED:20230421T112903Z
LAST-MODIFIED:20230626T111444Z
UID:10002172-1692196200-1692205200@wanlo-mg.de
SUMMARY:Café Jedermann
DESCRIPTION:
URL:https://wanlo-mg.de/veranstaltung/cafe-jedermann-11/
LOCATION:Pfarrheim\, An der Kirche 20\, Mönchengladbach\, NRW\, 41189\, Deutschland
CATEGORIES:Cafe,Outside_School
ATTACH;FMTTYPE=image/jpeg:https://wanlo-mg.de/wp-content/uploads/2023/04/Cafe-Jedermann-Pfarrbrief-II-2023.jpg
END:VEVENT
BEGIN:VEVENT
DTSTART;TZID=Europe/Berlin:20230802T143000
DTEND;TZID=Europe/Berlin:20230802T170000
DTSTAMP:20260420T044451
CREATED:20230421T112840Z
LAST-MODIFIED:20230626T111506Z
UID:10002171-1690986600-1690995600@wanlo-mg.de
SUMMARY:Café Jedermann
DESCRIPTION:
URL:https://wanlo-mg.de/veranstaltung/cafe-jedermann-10/
LOCATION:Pfarrheim\, An der Kirche 20\, Mönchengladbach\, NRW\, 41189\, Deutschland
CATEGORIES:Cafe,Outside_School
ATTACH;FMTTYPE=image/jpeg:https://wanlo-mg.de/wp-content/uploads/2023/04/Cafe-Jedermann-Pfarrbrief-II-2023.jpg
END:VEVENT
BEGIN:VEVENT
DTSTART;TZID=Europe/Berlin:20230719T143000
DTEND;TZID=Europe/Berlin:20230719T170000
DTSTAMP:20260420T044451
CREATED:20230421T112812Z
LAST-MODIFIED:20230626T110248Z
UID:10002170-1689777000-1689786000@wanlo-mg.de
SUMMARY:Café Jedermann
DESCRIPTION:
URL:https://wanlo-mg.de/veranstaltung/cafe-jedermann-9/
LOCATION:Pfarrheim\, An der Kirche 20\, Mönchengladbach\, NRW\, 41189\, Deutschland
CATEGORIES:Cafe,Outside_School
ATTACH;FMTTYPE=image/jpeg:https://wanlo-mg.de/wp-content/uploads/2023/04/Cafe-Jedermann-Pfarrbrief-II-2023.jpg
END:VEVENT
BEGIN:VEVENT
DTSTART;TZID=Europe/Berlin:20230705T143000
DTEND;TZID=Europe/Berlin:20230705T170000
DTSTAMP:20260420T044451
CREATED:20230421T112703Z
LAST-MODIFIED:20230626T111544Z
UID:10002169-1688567400-1688576400@wanlo-mg.de
SUMMARY:Café Jedermann
DESCRIPTION:
URL:https://wanlo-mg.de/veranstaltung/cafe-jedermann-8/
LOCATION:Pfarrheim\, An der Kirche 20\, Mönchengladbach\, NRW\, 41189\, Deutschland
CATEGORIES:Cafe,Outside_School
ATTACH;FMTTYPE=image/jpeg:https://wanlo-mg.de/wp-content/uploads/2023/04/Cafe-Jedermann-Pfarrbrief-II-2023.jpg
END:VEVENT
BEGIN:VEVENT
DTSTART;TZID=Europe/Berlin:20230621T143000
DTEND;TZID=Europe/Berlin:20230621T170000
DTSTAMP:20260420T044451
CREATED:20230421T112633Z
LAST-MODIFIED:20230626T111607Z
UID:10002168-1687357800-1687366800@wanlo-mg.de
SUMMARY:Café Jedermann
DESCRIPTION:
URL:https://wanlo-mg.de/veranstaltung/cafe-jedermann-7/
LOCATION:Pfarrheim\, An der Kirche 20\, Mönchengladbach\, NRW\, 41189\, Deutschland
CATEGORIES:Cafe,Outside_School
ATTACH;FMTTYPE=image/jpeg:https://wanlo-mg.de/wp-content/uploads/2023/04/Cafe-Jedermann-Pfarrbrief-II-2023.jpg
END:VEVENT
BEGIN:VEVENT
DTSTART;TZID=Europe/Berlin:20230607T143000
DTEND;TZID=Europe/Berlin:20230607T170000
DTSTAMP:20260420T044451
CREATED:20230421T111641Z
LAST-MODIFIED:20230421T111641Z
UID:10002166-1686148200-1686157200@wanlo-mg.de
SUMMARY:Diashow Wanlo des 20. Jahrhundets
DESCRIPTION:
URL:https://wanlo-mg.de/veranstaltung/diashow-wanlo-des-20-jahrhundets/
LOCATION:Pfarrheim\, An der Kirche 20\, Mönchengladbach\, NRW\, 41189\, Deutschland
ATTACH;FMTTYPE=image/jpeg:https://wanlo-mg.de/wp-content/uploads/2023/04/Diashow-20230607.jpg
END:VEVENT
BEGIN:VEVENT
DTSTART;TZID=Europe/Paris:20221207T143000
DTEND;TZID=Europe/Paris:20221207T173000
DTSTAMP:20260420T044451
CREATED:20220816T174319Z
LAST-MODIFIED:20220822T121626Z
UID:10001569-1670423400-1670434200@wanlo-mg.de
SUMMARY:Café Jedermann
DESCRIPTION:
URL:https://wanlo-mg.de/veranstaltung/cafe-jedermann-5/
LOCATION:Pfarrheim\, An der Kirche 20\, Mönchengladbach\, NRW\, 41189\, Deutschland
CATEGORIES:Cafe,Outside_School
END:VEVENT
BEGIN:VEVENT
DTSTART;TZID=Europe/Paris:20221126T150000
DTEND;TZID=Europe/Paris:20221126T170000
DTSTAMP:20260420T044451
CREATED:20220816T122710Z
LAST-MODIFIED:20220822T121612Z
UID:10001563-1669474800-1669482000@wanlo-mg.de
SUMMARY:Adventfeier der Senioren
DESCRIPTION:
URL:https://wanlo-mg.de/veranstaltung/adventfeier-der-senioren/
LOCATION:Pfarrheim\, An der Kirche 20\, Mönchengladbach\, NRW\, 41189\, Deutschland
CATEGORIES:Cafe,Outside_School
END:VEVENT
BEGIN:VEVENT
DTSTART;VALUE=DATE:20221119
DTEND;VALUE=DATE:20221120
DTSTAMP:20260420T044451
CREATED:20220816T122512Z
LAST-MODIFIED:20220822T121551Z
UID:10001562-1668816000-1668902399@wanlo-mg.de
SUMMARY:Tag der Jungschützen
DESCRIPTION:
URL:https://wanlo-mg.de/veranstaltung/tag-der-jungschuetzen/
LOCATION:Pfarrheim\, An der Kirche 20\, Mönchengladbach\, NRW\, 41189\, Deutschland
CATEGORIES:Outside_School
END:VEVENT
BEGIN:VEVENT
DTSTART;TZID=Europe/Paris:20221116T143000
DTEND;TZID=Europe/Paris:20221116T173000
DTSTAMP:20260420T044451
CREATED:20220816T174229Z
LAST-MODIFIED:20220822T121538Z
UID:10001568-1668609000-1668619800@wanlo-mg.de
SUMMARY:Café Jedermann
DESCRIPTION:
URL:https://wanlo-mg.de/veranstaltung/cafe-jedermann-4/
LOCATION:Pfarrheim\, An der Kirche 20\, Mönchengladbach\, NRW\, 41189\, Deutschland
CATEGORIES:Cafe,Outside_School
END:VEVENT
BEGIN:VEVENT
DTSTART;TZID=Europe/Berlin:20221022T193000
DTEND;TZID=Europe/Berlin:20221022T233000
DTSTAMP:20260420T044451
CREATED:20220816T120731Z
LAST-MODIFIED:20220910T122943Z
UID:10001558-1666467000-1666481400@wanlo-mg.de
SUMMARY:Traditioneller Dia-Abend
DESCRIPTION:
URL:https://wanlo-mg.de/veranstaltung/traditioneller-dia-abend/
LOCATION:Pfarrheim\, An der Kirche 20\, Mönchengladbach\, NRW\, 41189\, Deutschland
CATEGORIES:Outside_School
END:VEVENT
BEGIN:VEVENT
DTSTART;TZID=Europe/Berlin:20221019T143000
DTEND;TZID=Europe/Berlin:20221019T173000
DTSTAMP:20260420T044451
CREATED:20220816T174148Z
LAST-MODIFIED:20220910T125559Z
UID:10001567-1666189800-1666200600@wanlo-mg.de
SUMMARY:Café Jedermann
DESCRIPTION:
URL:https://wanlo-mg.de/veranstaltung/cafe-jedermann-3/
LOCATION:Pfarrheim\, An der Kirche 20\, Mönchengladbach\, NRW\, 41189\, Deutschland
CATEGORIES:Cafe,Outside_School
END:VEVENT
BEGIN:VEVENT
DTSTART;TZID=Europe/Berlin:20221006T193000
DTEND;TZID=Europe/Berlin:20221006T220000
DTSTAMP:20260420T044451
CREATED:20220817T155306Z
LAST-MODIFIED:20221005T113113Z
UID:10001573-1665084600-1665093600@wanlo-mg.de
SUMMARY:Jahreshauptversammlung Dorfinteressengemeinschaft Wanlo e.V.
DESCRIPTION:
URL:https://wanlo-mg.de/veranstaltung/jahreshauptversammlung-dorfinteressengemeinschaft-wanlo-e-v/
LOCATION:Pfarrheim\, An der Kirche 20\, Mönchengladbach\, NRW\, 41189\, Deutschland
CATEGORIES:Outside_School
ATTACH;FMTTYPE=image/jpeg:https://wanlo-mg.de/wp-content/uploads/2022/08/Einladung-JHV-2022-10_page-0001.jpg
END:VEVENT
BEGIN:VEVENT
DTSTART;TZID=Europe/Berlin:20221005T143000
DTEND;TZID=Europe/Berlin:20221005T173000
DTSTAMP:20260420T044451
CREATED:20220816T174113Z
LAST-MODIFIED:20220910T125235Z
UID:10001566-1664980200-1664991000@wanlo-mg.de
SUMMARY:Café Jedermann
DESCRIPTION:
URL:https://wanlo-mg.de/veranstaltung/cafe-jedermann-2/
LOCATION:Pfarrheim\, An der Kirche 20\, Mönchengladbach\, NRW\, 41189\, Deutschland
CATEGORIES:Cafe,Outside_School
END:VEVENT
BEGIN:VEVENT
DTSTART;TZID=Europe/Berlin:20220817T143000
DTEND;TZID=Europe/Berlin:20220817T173000
DTSTAMP:20260420T044451
CREATED:20220816T174015Z
LAST-MODIFIED:20220910T125448Z
UID:10001565-1660746600-1660757400@wanlo-mg.de
SUMMARY:Café Jedermann
DESCRIPTION:
URL:https://wanlo-mg.de/veranstaltung/cafe-jedermann/
LOCATION:Pfarrheim\, An der Kirche 20\, Mönchengladbach\, NRW\, 41189\, Deutschland
CATEGORIES:Cafe,Outside_School
END:VEVENT
END:VCALENDAR